BEGIN:VCALENDAR
VERSION:2.0
PRODID:-//hacksw/handcal//NONSGML v1.0//EN
BEGIN:VEVENT
SUMMARY:RANDONNEE A BILQUES
UID:0e729a32-dad8-48e1-883b-a10e078b1708
DTSTART:20260329T070000Z
DTEND:20260329T091500Z
LOCATION:Localisation   
CATEGORIES:Sportif
STATUS:
DESCRIPTION:<p>Dimanche 29 mars 2026, ransonnee de 10 kms a Bilques.
 Depart 9 h parking du cimetiere ou pour le covoiturage, ou pour le
 covoiturage, 8h40 parking du week-end</p>
URL;VALUE=URI:https://lamarchepepere.sportsregions.fr/evenements/2026/03/29/randonnee-a-bilques-2428912
END:VEVENT
END:VCALENDAR
