BEGIN:VCALENDAR
VERSION:2.0
PRODID:-//hacksw/handcal//NONSGML v1.0//EN
BEGIN:VEVENT
SUMMARY:RANDONNEE A LONGUENESSE
UID:41bffdd6-af32-4cf9-b834-8b1bf18e3a0e
DTSTART:20260419T070000Z
DTEND:20260419T090000Z
LOCATION:Localisation   
CATEGORIES:Sportif
STATUS:
DESCRIPTION:<p>Dimanche 19 avril 2026, randonnee de 10 kms a
 Longuenesse/Saint-Omer. Depart 9 h chez Martine</p>
URL;VALUE=URI:https://lamarchepepere.sportsregions.fr/evenements/2026/04/19/randonnee-a-longuenesse-2440598
END:VEVENT
END:VCALENDAR
