BEGIN:VCALENDAR
VERSION:2.0
PRODID:-//hacksw/handcal//NONSGML v1.0//EN
BEGIN:VEVENT
SUMMARY:RANDONNEE A HOULLE
UID:fbd05efe-10e8-485a-9f11-fa982143d13c
DTSTART:20260426T070000Z
DTEND:20260426T070000Z
LOCATION:Localisation   
CATEGORIES:Sportif
STATUS:
DESCRIPTION:<p>Dimanche 26 avril 2026, randonnee de 10.60 kms a
 Houlle. Depart 9 h parking en face de l'eglise, ou pour le
 covoiturage 8h40 parking du week-end</p>
URL;VALUE=URI:https://lamarchepepere.sportsregions.fr/evenements/2026/04/26/randonnee-a-houlle-2440628
END:VEVENT
END:VCALENDAR
