BEGIN:VCALENDAR
VERSION:2.0
PRODID:-//hacksw/handcal//NONSGML v1.0//EN
BEGIN:VEVENT
SUMMARY:RANDONNEE A MERCKEGHEM
UID:b5e73731-41e8-4d81-bdc7-516b37e77c02
DTSTART:20260607T070000Z
DTEND:20260607T091500Z
LOCATION:Localisation   
CATEGORIES:Sportif
STATUS:
URL;VALUE=URI:https://lamarchepepere.sportsregions.fr/evenements/2026/06/07/randonnee-a-merckeghem-2428911
END:VEVENT
END:VCALENDAR
